BEGIN:VCALENDAR
VERSION:2.0
PRODID:-//eventon.com NONSGML v1.0//EN
CALSCALE:GREGORIAN
METHOD:PUBLISH
BEGIN:VEVENT
UID:69e746c5599e6
DTSTAMP:20260421T094333Z
DTSTART:20220217T190000Z
DTEND:20220217T210000Z
LOCATION:https://fen.uk.com/events/how-to-assess-using-the-demonstration-of-procedural-skill-dops-bandaging-and-buddy-neighbour-strapping-proformas
SUMMARY:How to assess using the Demonstration of Procedural Skill (DOPS) Bandaging and Buddy/Neighbour Strapping Proformas 
DESCRIPTION:How to assess using the Demonstration of Procedural Skill (DOPS
 ) Bandaging and Buddy/Neighbour Strapping Proformas \nhttps://fen.uk.com/e
 vents/how-to-assess-using-the-demonstration-of-procedural-skill-dops-bandag
 ing-and-buddy-neighbour-strapping-proformas
URL:https://fen.uk.com/events/how-to-assess-using-the-demonstration-of-procedural-skill-dops-bandaging-and-buddy-neighbour-strapping-proformas
END:VEVENT
END:VCALENDAR