BEGIN:VCALENDAR
VERSION:2.0
PRODID:-//eventon.com NONSGML v1.0//EN
CALSCALE:GREGORIAN
METHOD:PUBLISH
BEGIN:VEVENT
UID:69e8a4d73f8ab
DTSTAMP:20260422T103711Z
DTSTART:20230316T190000Z
DTEND:20230316T210000Z
LOCATION:
SUMMARY:FEN Assessors - Claims\,  concerns and networking webinar March 2023
DESCRIPTION:FEN Assessors - Claims\,  concerns and networking webinar March
  2023\nhttps://fen.uk.com/events/fen-assessors-claims-concerns-and-networki
 ng-webinar-march-2023
URL:https://fen.uk.com/events/fen-assessors-claims-concerns-and-networking-webinar-march-2023
END:VEVENT
END:VCALENDAR